BEGIN:VCALENDAR
VERSION:2.0
PRODID:-// eRoom plugin //NONSGML v1.0//EN
CALSCALE:GREGORIAN
BEGIN:VEVENT
UID:eRoom-1777068994
SUMMARY:Quick &amp; Easy Manosplint® Precuts
LOCATION:Zoom
DESCRIPTION:https://us06web.zoom.us/rec/share/mwXh3PQRp50DKyC55e65uuh5Znrl4
 CxSDn0Bs-stChAKvffgEa2c2-RSAAWHKRGd.Hd3fuXrLPoZPRmsy Passcode: #4QvqDV@\n
 \n---\n\nQuick &amp\; Easy Manosplint® Precuts is inviting you to a sched
 uled Zoom meeting.\n\nJoin Zoom Meeting\nhttps://us04web.zoom.us/j/9798993
 3690?pwd=mmoUgIVLdUQGpldA4hc5uumbUmPLk1.1\n\nMeeting ID: 97989933690\nPass
 code: mano\n
URL;VALUE=URI:https://us04web.zoom.us/j/97989933690?pwd=mmoUgIVLdUQGpldA4hc5uumbUmPLk1.1
DTSTART:20251210T170000Z
DTEND:20251210T180000Z
DTSTAMP:20260424T221634Z
BEGIN:VALARM
ACTION:DISPLAY
DESCRIPTION:Reminder
TRIGGER;RELATED=START:-PT15M
END:VALARM
END:VEVENT
END:VCALENDAR